BEGIN:VCALENDAR
VERSION:2.0
PRODID:-//Plone.org//NONSGML plone.app.event//EN
X-WR-TIMEZONE:America/Maceio
BEGIN:VEVENT
SUMMARY:Curso Produção de Videoaulas - Turma I
DTSTART;TZID=America/Maceio:20201005T163000
DTEND;TZID=America/Maceio:20201018T183000
DTSTAMP:20260421T062013Z
UID:2a95457337bc4849906353cae9b3c44f@principal.ufal.br
CREATED:20200929T124405Z
LAST-MODIFIED:20230412T191625Z
URL:https://ufal.br/servidor/capacitacao/formacao-docente/eventos/anos-ant
 eriores/2020/ii-semestre/inscricoes-encerradas/curso-producao-de-videoaula
 s-turma-i
END:VEVENT
BEGIN:VTIMEZONE
TZID:America/Maceio
X-LIC-LOCATION:America/Maceio
BEGIN:STANDARD
DTSTART:20020216T230000
TZNAME:-03
TZOFFSETFROM:-0200
TZOFFSETTO:-0300
END:STANDARD
END:VTIMEZONE
END:VCALENDAR
