BEGIN:VCALENDAR
VERSION:2.0
PRODID:-//Plone.org//NONSGML plone.app.event//EN
X-WR-TIMEZONE:America/Maceio
BEGIN:VEVENT
SUMMARY:Curso Produção de Material Didático Digital - Turma 2
DTSTART;TZID=America/Maceio:20201023T150000
DTEND;TZID=America/Maceio:20201113T180000
DTSTAMP:20260421T122116Z
UID:b8c789ca7ce6433f8d2c9aaba7bfc2fe@principal.ufal.br
CREATED:20201008T163435Z
LAST-MODIFIED:20230412T191626Z
URL:https://ufal.br/servidor/capacitacao/formacao-docente/eventos/anos-ant
 eriores/2020/ii-semestre/inscricoes-encerradas/curso-producao-de-material-
 didatico-digital-turma-2
END:VEVENT
BEGIN:VTIMEZONE
TZID:America/Maceio
X-LIC-LOCATION:America/Maceio
BEGIN:STANDARD
DTSTART:20020216T230000
TZNAME:-03
TZOFFSETFROM:-0200
TZOFFSETTO:-0300
END:STANDARD
END:VTIMEZONE
END:VCALENDAR
