BEGIN:VCALENDAR
VERSION:2.0
PRODID:-//Plone.org//NONSGML plone.app.event//EN
X-WR-TIMEZONE:America/Maceio
BEGIN:VEVENT
SUMMARY:Curso Moodle Avançado - Turma 2
DTSTART;TZID=America/Maceio:20201103T200000
DTEND;TZID=America/Maceio:20201114T220000
DTSTAMP:20260421T062005Z
UID:778fc1562c574c31a8ba802b0c304eec@principal.ufal.br
CREATED:20201022T180322Z
LAST-MODIFIED:20230412T191627Z
URL:https://ufal.br/servidor/capacitacao/formacao-docente/eventos/anos-ant
 eriores/2020/ii-semestre/inscricoes-encerradas/curso-moodle-avancado-turma
 -2
END:VEVENT
BEGIN:VTIMEZONE
TZID:America/Maceio
X-LIC-LOCATION:America/Maceio
BEGIN:STANDARD
DTSTART:20020216T230000
TZNAME:-03
TZOFFSETFROM:-0200
TZOFFSETTO:-0300
END:STANDARD
END:VTIMEZONE
END:VCALENDAR
