BEGIN:VCALENDAR
VERSION:2.0
PRODID:-//Plone.org//NONSGML plone.app.event//EN
X-WR-TIMEZONE:America/Maceio
BEGIN:VEVENT
SUMMARY:Curso Inclusão Social e Tecnologias Assistivas para Pessoas com D
 eficiência ou Déficit de Aprendizagem
DTSTART;TZID=America/Maceio:20200702T160000
DTEND;TZID=America/Maceio:20200730T160000
DTSTAMP:20260421T062214Z
UID:109c8685317844ca9f14b5c1d3d98003@principal.ufal.br
CREATED:20200622T150116Z
LAST-MODIFIED:20230412T191625Z
URL:https://ufal.br/servidor/capacitacao/formacao-docente/eventos/anos-ant
 eriores/2020/ii-semestre/inscricoes-encerradas/curso-inclusao-social-e-tec
 nologias-assistivas-para-pessoas-com-deficiencia-ou-deficit-de-aprendizage
 m
END:VEVENT
BEGIN:VTIMEZONE
TZID:America/Maceio
X-LIC-LOCATION:America/Maceio
BEGIN:STANDARD
DTSTART:20020216T230000
TZNAME:-03
TZOFFSETFROM:-0200
TZOFFSETTO:-0300
END:STANDARD
END:VTIMEZONE
END:VCALENDAR
