BEGIN:VCALENDAR
VERSION:2.0
PRODID:-//Plone.org//NONSGML plone.app.event//EN
X-WR-TIMEZONE:America/Maceio
BEGIN:VEVENT
SUMMARY:Curso Gênero\, Diversidade e Equidade no Contexto Acadêmico
DTSTART;TZID=America/Maceio:20200715T190000
DTEND;TZID=America/Maceio:20200805T203000
DTSTAMP:20260421T044836Z
UID:d196b73eb0184888a193a294ecc1e171@principal.ufal.br
CREATED:20200615T122851Z
LAST-MODIFIED:20230412T191625Z
URL:https://ufal.br/servidor/capacitacao/formacao-docente/eventos/anos-ant
 eriores/2020/ii-semestre/inscricoes-encerradas/curso-genero-diversidade-e-
 equidade-no-contexto-academico
END:VEVENT
BEGIN:VTIMEZONE
TZID:America/Maceio
X-LIC-LOCATION:America/Maceio
BEGIN:STANDARD
DTSTART:20020216T230000
TZNAME:-03
TZOFFSETFROM:-0200
TZOFFSETTO:-0300
END:STANDARD
END:VTIMEZONE
END:VCALENDAR
