BEGIN:VCALENDAR
VERSION:2.0
PRODID:-//Plone.org//NONSGML plone.app.event//EN
X-WR-TIMEZONE:America/Maceio
BEGIN:VEVENT
SUMMARY:Curso Gamificação na Sala de Aula Unversitária - Turma 2
DTSTART;TZID=America/Maceio:20200922T133000
DTEND;TZID=America/Maceio:20201013T180000
DTSTAMP:20260421T061043Z
UID:80edca8f954a42d69e1da1c56edc90e4@principal.ufal.br
CREATED:20200713T122529Z
DESCRIPTION:Como o número de inscritos ultrapassou o número de vagas\, f
 oi necessário dividir o curso em duas turmas.
LAST-MODIFIED:20230412T191625Z
URL:https://ufal.br/servidor/capacitacao/formacao-docente/eventos/anos-ant
 eriores/2020/ii-semestre/inscricoes-encerradas/curso-gamificacao-na-sala-d
 e-aula-unversitaria-turma-2
END:VEVENT
BEGIN:VTIMEZONE
TZID:America/Maceio
X-LIC-LOCATION:America/Maceio
BEGIN:STANDARD
DTSTART:20020216T230000
TZNAME:-03
TZOFFSETFROM:-0200
TZOFFSETTO:-0300
END:STANDARD
END:VTIMEZONE
END:VCALENDAR
