BEGIN:VCALENDAR
VERSION:2.0
PRODID:-//Plone.org//NONSGML plone.app.event//EN
X-WR-TIMEZONE:America/Maceio
BEGIN:VEVENT
SUMMARY:Curso Gamificação na Sala de Aula Universitária
DTSTART;TZID=America/Maceio:20200825T133000
DTEND;TZID=America/Maceio:20200915T180000
DTSTAMP:20260421T061053Z
UID:c691d3fcf34840859de7c2cf1a195427@principal.ufal.br
CREATED:20200521T144830Z
LAST-MODIFIED:20230412T191624Z
URL:https://ufal.br/servidor/capacitacao/formacao-docente/eventos/anos-ant
 eriores/2020/ii-semestre/inscricoes-encerradas/curso-gamificacao-na-sala-d
 e-aula-universitaria
END:VEVENT
BEGIN:VTIMEZONE
TZID:America/Maceio
X-LIC-LOCATION:America/Maceio
BEGIN:STANDARD
DTSTART:20020216T230000
TZNAME:-03
TZOFFSETFROM:-0200
TZOFFSETTO:-0300
END:STANDARD
END:VTIMEZONE
END:VCALENDAR
