BEGIN:VCALENDAR
VERSION:2.0
PRODID:-//Plone.org//NONSGML plone.app.event//EN
X-WR-TIMEZONE:America/Maceio
BEGIN:VEVENT
SUMMARY:Curso Entre Palavras e Imagens: Gênero\, Sexualidade e Questão 
 Étnico-Raciais
DTSTART;TZID=America/Maceio:20200707T141000
DTEND;TZID=America/Maceio:20200730T160000
DTSTAMP:20260421T062048Z
UID:5a74ac8ba3bb4b949204b1a24acaeae6@principal.ufal.br
CREATED:20200612T182411Z
LAST-MODIFIED:20230412T191625Z
URL:https://ufal.br/servidor/capacitacao/formacao-docente/eventos/anos-ant
 eriores/2020/ii-semestre/inscricoes-encerradas/curso-entre-palavras-e-imag
 ens-genero-sexualidade-e-questao-etnico-raciais
END:VEVENT
BEGIN:VTIMEZONE
TZID:America/Maceio
X-LIC-LOCATION:America/Maceio
BEGIN:STANDARD
DTSTART:20020216T230000
TZNAME:-03
TZOFFSETFROM:-0200
TZOFFSETTO:-0300
END:STANDARD
END:VTIMEZONE
END:VCALENDAR
