BEGIN:VCALENDAR
VERSION:2.0
PRODID:-//Plone.org//NONSGML plone.app.event//EN
X-WR-TIMEZONE:America/Maceio
BEGIN:VEVENT
SUMMARY:Curso Docência Universitária: do Planejamento à Avaliação
DTSTART;TZID=America/Maceio:20200806T190000
DTEND;TZID=America/Maceio:20200909T210000
DTSTAMP:20260421T061058Z
UID:de660fd4dfe04971a0d10d2ca2653226@principal.ufal.br
CREATED:20200529T134631Z
LAST-MODIFIED:20230412T191624Z
URL:https://ufal.br/servidor/capacitacao/formacao-docente/eventos/anos-ant
 eriores/2020/ii-semestre/inscricoes-encerradas/curso-docencia-universitari
 a-do-planejamento-a-avaliacao
END:VEVENT
BEGIN:VTIMEZONE
TZID:America/Maceio
X-LIC-LOCATION:America/Maceio
BEGIN:STANDARD
DTSTART:20020216T230000
TZNAME:-03
TZOFFSETFROM:-0200
TZOFFSETTO:-0300
END:STANDARD
END:VTIMEZONE
END:VCALENDAR
