BEGIN:VCALENDAR
VERSION:2.0
PRODID:-//Plone.org//NONSGML plone.app.event//EN
X-WR-TIMEZONE:America/Maceio
BEGIN:VEVENT
SUMMARY:Curso de Microsoft Teams - Turma 1
DTSTART;TZID=America/Maceio:20201007T160000
DTEND;TZID=America/Maceio:20201021T170000
DTSTAMP:20260421T074812Z
UID:d187c431f65d48349a47fcd83e1291c2@principal.ufal.br
CREATED:20201002T193833Z
LAST-MODIFIED:20230412T191626Z
URL:https://ufal.br/servidor/capacitacao/formacao-docente/eventos/anos-ant
 eriores/2020/ii-semestre/inscricoes-encerradas/curso-de-microsoft-teams-tu
 rma-1
END:VEVENT
BEGIN:VTIMEZONE
TZID:America/Maceio
X-LIC-LOCATION:America/Maceio
BEGIN:STANDARD
DTSTART:20020216T230000
TZNAME:-03
TZOFFSETFROM:-0200
TZOFFSETTO:-0300
END:STANDARD
END:VTIMEZONE
END:VCALENDAR
