BEGIN:VCALENDAR
VERSION:2.0
PRODID:-//Plone.org//NONSGML plone.app.event//EN
X-WR-TIMEZONE:America/Maceio
BEGIN:VEVENT
SUMMARY:Curso Básico de Libras
DTSTART;TZID=America/Maceio:20200622T140000
DTEND;TZID=America/Maceio:20200726T170000
DTSTAMP:20260421T013059Z
UID:eb39fa38e8ed412e91a1982f30113f70@principal.ufal.br
CREATED:20200610T151722Z
LAST-MODIFIED:20230412T191623Z
URL:https://ufal.br/servidor/capacitacao/formacao-docente/eventos/anos-ant
 eriores/2020/i-semestre/inscricoes-encerradas/curso-basico-de-libras-1
END:VEVENT
BEGIN:VTIMEZONE
TZID:America/Maceio
X-LIC-LOCATION:America/Maceio
BEGIN:STANDARD
DTSTART:20020216T230000
TZNAME:-03
TZOFFSETFROM:-0200
TZOFFSETTO:-0300
END:STANDARD
END:VTIMEZONE
END:VCALENDAR
