BEGIN:VCALENDAR
VERSION:2.0
PRODID:-//Plone.org//NONSGML plone.app.event//EN
X-WR-TIMEZONE:America/Maceio
BEGIN:VEVENT
SUMMARY:Seminário ENADE - Maceió
DTSTART;TZID=America/Maceio:20180712T111500
DTEND;TZID=America/Maceio:20180712T121500
DTSTAMP:20260420T142344Z
UID:92765794754b4e778975f85128ac33c2@principal.ufal.br
CONTACT:https://docs.google.com/forms/d/e/1FAIpQLScXqxy1zwtC6afbtJoJvjsQCu
 Vgk6ajFvSxr6k_ujzFeydNYg/viewform
CREATED:20180712T141804Z
LAST-MODIFIED:20230412T191510Z
URL:https://ufal.br/servidor/capacitacao/formacao-docente/eventos/anos-ant
 eriores/2018/seminario-enade-maceio
END:VEVENT
BEGIN:VTIMEZONE
TZID:America/Maceio
X-LIC-LOCATION:America/Maceio
BEGIN:STANDARD
DTSTART:20020216T230000
TZNAME:-03
TZOFFSETFROM:-0200
TZOFFSETTO:-0300
END:STANDARD
END:VTIMEZONE
END:VCALENDAR
