BEGIN:VCALENDAR
VERSION:2.0
PRODID:-//Plone.org//NONSGML plone.app.event//EN
X-WR-TIMEZONE:America/Maceio
BEGIN:VEVENT
SUMMARY:Seminário ENADE - Arapiraca
DTSTART;TZID=America/Maceio:20180712T110000
DTEND;TZID=America/Maceio:20180712T120000
DTSTAMP:20260420T134316Z
UID:8e152a6244a44027a0837db50ee1148b@principal.ufal.br
CONTACT:https://docs.google.com/forms/d/e/1FAIpQLScnag-HOU6CDWEZdVQGhwKmPk
 -MmEllZEOJW6QWYL02RO4I5g/viewform
CREATED:20180712T142735Z
LAST-MODIFIED:20230412T191510Z
URL:https://ufal.br/servidor/capacitacao/formacao-docente/eventos/anos-ant
 eriores/2018/seminario-enade-arapiraca
END:VEVENT
BEGIN:VTIMEZONE
TZID:America/Maceio
X-LIC-LOCATION:America/Maceio
BEGIN:STANDARD
DTSTART:20020216T230000
TZNAME:-03
TZOFFSETFROM:-0200
TZOFFSETTO:-0300
END:STANDARD
END:VTIMEZONE
END:VCALENDAR
