BEGIN:VCALENDAR
VERSION:2.0
PRODID:-//Plone.org//NONSGML plone.app.event//EN
X-WR-TIMEZONE:America/Maceio
BEGIN:VEVENT
SUMMARY:Oficina Didática para Professores Universitários - Turma A
DTSTART;TZID=America/Maceio:20180801T080000
DTEND;TZID=America/Maceio:20180803T120000
DTSTAMP:20260420T185711Z
UID:c583f505a91846a1bb36a00f293d3d4a@principal.ufal.br
CONTACT:https://docs.google.com/forms/d/e/1FAIpQLSdeP7G8cwNHXlXLJ4DmGTIoEi
 MqzTK5Kw9BAUxx2p4cMUBMSw/viewform
CREATED:20180710T144454Z
LAST-MODIFIED:20230412T191510Z
LOCATION:Sala de Seminários do CEDU
URL:https://ufal.br/servidor/capacitacao/formacao-docente/eventos/anos-ant
 eriores/2018/oficina-didatica-para-professores-universitarios-turma-a
END:VEVENT
BEGIN:VTIMEZONE
TZID:America/Maceio
X-LIC-LOCATION:America/Maceio
BEGIN:STANDARD
DTSTART:20020216T230000
TZNAME:-03
TZOFFSETFROM:-0200
TZOFFSETTO:-0300
END:STANDARD
END:VTIMEZONE
END:VCALENDAR
