BEGIN:VCALENDAR
VERSION:2.0
PRODID:-//Plone.org//NONSGML plone.app.event//EN
X-WR-TIMEZONE:America/Maceio
BEGIN:VEVENT
SUMMARY:Oficina de Capacitação em Metodologias de Ensino Aprendizagem - 
 Arapiraca
DTSTART;TZID=America/Maceio:20181112T080000
DTEND;TZID=America/Maceio:20181114T170000
DTSTAMP:20260420T165700Z
UID:d6500831f882480b9449664335813f92@principal.ufal.br
CREATED:20181019T134235Z
LAST-MODIFIED:20230412T191511Z
URL:https://ufal.br/servidor/capacitacao/formacao-docente/eventos/anos-ant
 eriores/2018/oficina-de-capacitacao-em-metodologias-de-ensino-aprendizagem
END:VEVENT
BEGIN:VTIMEZONE
TZID:America/Maceio
X-LIC-LOCATION:America/Maceio
BEGIN:STANDARD
DTSTART:20020216T230000
TZNAME:-03
TZOFFSETFROM:-0200
TZOFFSETTO:-0300
END:STANDARD
END:VTIMEZONE
END:VCALENDAR
