BEGIN:VCALENDAR
VERSION:2.0
PRODID:-//Plone.org//NONSGML plone.app.event//EN
X-WR-TIMEZONE:America/Maceio
BEGIN:VEVENT
SUMMARY:Curso Práticas Inclusivas em Saúde mental na Educação Superior
DTSTART;TZID=America/Maceio:20181011T080000
DTEND;TZID=America/Maceio:20181025T170000
DTSTAMP:20260420T172357Z
UID:8baaa3fec0e84684b194b3031dd2332c@principal.ufal.br
CONTACT:https://docs.google.com/forms/d/e/1FAIpQLSfNlkaqNLUClpwvcLSA7sK4ae
 fvl8g8tWsDEOCPt5ZRWGaEKw/viewform
CREATED:20180830T124220Z
LAST-MODIFIED:20230412T191510Z
LOCATION:Sala 04 do CIC
URL:https://ufal.br/servidor/capacitacao/formacao-docente/eventos/anos-ant
 eriores/2018/curso-praticas-inclusivas-em-saude-mental-na-educacao-superio
 r
END:VEVENT
BEGIN:VTIMEZONE
TZID:America/Maceio
X-LIC-LOCATION:America/Maceio
BEGIN:STANDARD
DTSTART:20020216T230000
TZNAME:-03
TZOFFSETFROM:-0200
TZOFFSETTO:-0300
END:STANDARD
END:VTIMEZONE
END:VCALENDAR
