BEGIN:VCALENDAR
VERSION:2.0
PRODID:-//Plone.org//NONSGML plone.app.event//EN
X-WR-TIMEZONE:America/Maceio
BEGIN:VEVENT
SUMMARY:Curso Gestão Pedagógica dos Cursos de Graduação - Sertão (CAN
 CELADO)
DTSTART;TZID=America/Maceio:20181008T080000
DTEND;TZID=America/Maceio:20181029T170000
DTSTAMP:20260420T192333Z
UID:4a253f4e7c9f4f21a71b77eafeb73262@principal.ufal.br
CREATED:20180910T163914Z
LAST-MODIFIED:20230412T191511Z
LOCATION:Campus Sertão
URL:https://ufal.br/servidor/capacitacao/formacao-docente/eventos/anos-ant
 eriores/2018/curso-gestao-pedagogica-dos-cursos-de-graduacao-sertao
END:VEVENT
BEGIN:VTIMEZONE
TZID:America/Maceio
X-LIC-LOCATION:America/Maceio
BEGIN:STANDARD
DTSTART:20020216T230000
TZNAME:-03
TZOFFSETFROM:-0200
TZOFFSETTO:-0300
END:STANDARD
END:VTIMEZONE
END:VCALENDAR
