BEGIN:VCALENDAR
VERSION:2.0
PRODID:-//Plone.org//NONSGML plone.app.event//EN
X-WR-TIMEZONE:America/Maceio
BEGIN:VEVENT
SUMMARY:Curso Gestão Pedagógica dos Cursos de Graduação - Arapiraca
DTSTART;TZID=America/Maceio:20181022T080000
DTEND;TZID=America/Maceio:20181119T170000
DTSTAMP:20260420T192333Z
UID:a1f5837fb63346c9a834965b593b2928@principal.ufal.br
CREATED:20180910T162349Z
LAST-MODIFIED:20230412T191511Z
LOCATION:Campus Arapiraca
URL:https://ufal.br/servidor/capacitacao/formacao-docente/eventos/anos-ant
 eriores/2018/curso-gestao-pedagogica-dos-cursos-de-graduacao-arapiraca
END:VEVENT
BEGIN:VTIMEZONE
TZID:America/Maceio
X-LIC-LOCATION:America/Maceio
BEGIN:STANDARD
DTSTART:20020216T230000
TZNAME:-03
TZOFFSETFROM:-0200
TZOFFSETTO:-0300
END:STANDARD
END:VTIMEZONE
END:VCALENDAR
