BEGIN:VCALENDAR
VERSION:2.0
PRODID:-//Plone.org//NONSGML plone.app.event//EN
X-WR-TIMEZONE:America/Maceio
BEGIN:VEVENT
SUMMARY:Curso Ética e Universidade
DTSTART;TZID=America/Maceio:20180522T080000
DTEND;TZID=America/Maceio:20180731T120000
DTSTAMP:20260419T225348Z
UID:d8e15023b52b4e74b0137df0ae68aa41@principal.ufal.br
ATTENDEE;CN="Dra. Elione Nogueira";ROLE=REQ-PARTICIPANT:Dra. Elione Noguei
 ra
ATTENDEE;CN="Dr. Anderson de Alencar Menezes";ROLE=REQ-PARTICIPANT:Dr. And
 erson de Alencar Menezes
CONTACT:Vera Pontes\, (82) 3214-1674
CREATED:20180517T155623Z
LAST-MODIFIED:20230412T191509Z
LOCATION:Centro de Educação - Cedu - A. C. Simões
URL:https://ufal.br/servidor/capacitacao/formacao-docente/eventos/anos-ant
 eriores/2018/curso-etica-e-universidade
END:VEVENT
BEGIN:VTIMEZONE
TZID:America/Maceio
X-LIC-LOCATION:America/Maceio
BEGIN:STANDARD
DTSTART:20020216T230000
TZNAME:-03
TZOFFSETFROM:-0200
TZOFFSETTO:-0300
END:STANDARD
END:VTIMEZONE
END:VCALENDAR
