BEGIN:VCALENDAR
VERSION:2.0
PRODID:-//Plone.org//NONSGML plone.app.event//EN
X-WR-TIMEZONE:America/Maceio
BEGIN:VEVENT
SUMMARY:Curso "Educação Inclusiva e Acessibilidade no Ensino Superior: r
 ecursos e saberes para superar barreiras reais\, legais e atitudinais"
DTSTART;TZID=America/Maceio:20180816T093000
DTEND;TZID=America/Maceio:20180927T153000
DTSTAMP:20260420T163056Z
UID:b9deac04a44847e192ba27b966437a87@principal.ufal.br
CONTACT:https://docs.google.com/forms/d/e/1FAIpQLSclOqA_Kefa7c-HudLhYeP18Y
 IjjQwmsW5HoxAqUL9uMZV9PQ/viewform
CREATED:20180709T151957Z
LAST-MODIFIED:20230412T191510Z
LOCATION:Campus Arapiraca
URL:https://ufal.br/servidor/capacitacao/formacao-docente/eventos/anos-ant
 eriores/2018/curso-educacao-inclusiva-e-acessibilidade-no-ensino-superior-
 recursos-e-saberes-para-superar-barreiras-reais-legais-e-atitudinais
END:VEVENT
BEGIN:VTIMEZONE
TZID:America/Maceio
X-LIC-LOCATION:America/Maceio
BEGIN:STANDARD
DTSTART:20020216T230000
TZNAME:-03
TZOFFSETFROM:-0200
TZOFFSETTO:-0300
END:STANDARD
END:VTIMEZONE
END:VCALENDAR
