BEGIN:VCALENDAR
VERSION:2.0
PRODID:-//Plone.org//NONSGML plone.app.event//EN
X-WR-TIMEZONE:America/Maceio
BEGIN:VEVENT
SUMMARY:Curso Educação para a Inclusão de Pessoas com Deficiência\, TE
 A\, TGD e Outros
DTSTART;TZID=America/Maceio:20240904T140000
DTEND;TZID=America/Maceio:20240927T170000
DTSTAMP:20260420T132538Z
UID:19d9c03615f24c8f864ec9b85b5ab9b2@principal.ufal.br
CREATED:20240822T162910Z
LAST-MODIFIED:20241223T145249Z
URL:https://ufal.br/servidor/capacitacao/formacao-docente/eventos/2024/ii-
 semestre/curso-educacao-para-a-inclusao-de-pessoas-com-deficiencia-tea-tgd
 -e-outros
END:VEVENT
BEGIN:VTIMEZONE
TZID:America/Maceio
X-LIC-LOCATION:America/Maceio
BEGIN:STANDARD
DTSTART:20020216T230000
TZNAME:-03
TZOFFSETFROM:-0200
TZOFFSETTO:-0300
END:STANDARD
END:VTIMEZONE
END:VCALENDAR
