BEGIN:VCALENDAR
VERSION:2.0
PRODID:-//Plone.org//NONSGML plone.app.event//EN
X-WR-TIMEZONE:America/Maceio
BEGIN:VEVENT
SUMMARY:Curso Tecnologias Digitais de Ensino e Aprendizagem: Mediação e 
 Interação
DTSTART;TZID=America/Maceio:20230719T090000
DTEND;TZID=America/Maceio:20230803T110000
DTSTAMP:20260420T172648Z
UID:f5e8e8cc53954e37b705aa2a7618ea2b@principal.ufal.br
CREATED:20230602T144035Z
LAST-MODIFIED:20240119T141314Z
URL:https://ufal.br/servidor/capacitacao/formacao-docente/eventos/2023/ii-
 semestre/inscricoes-encerradas/curso-tecnologias-digitais-de-ensino-e-apre
 ndizagem-mediacao-e-interacao
END:VEVENT
BEGIN:VTIMEZONE
TZID:America/Maceio
X-LIC-LOCATION:America/Maceio
BEGIN:STANDARD
DTSTART:20020216T230000
TZNAME:-03
TZOFFSETFROM:-0200
TZOFFSETTO:-0300
END:STANDARD
END:VTIMEZONE
END:VCALENDAR
