BEGIN:VCALENDAR
VERSION:2.0
PRODID:-//Plone.org//NONSGML plone.app.event//EN
X-WR-TIMEZONE:America/Maceio
BEGIN:VEVENT
SUMMARY:Curso Novos Rumos Curriculares na Perspectiva dos Bacharelados e L
 icenciaturas
DTSTART;TZID=America/Maceio:20230717T190000
DTEND;TZID=America/Maceio:20230807T210000
DTSTAMP:20260420T190243Z
UID:400a941846734fddb34e0d266e813e2f@principal.ufal.br
CREATED:20230607T132822Z
LAST-MODIFIED:20240119T141048Z
URL:https://ufal.br/servidor/capacitacao/formacao-docente/eventos/2023/ii-
 semestre/inscricoes-encerradas/curso-novos-rumos-curriculares-na-perspecti
 va-dos-bacharelados-e-licenciaturas
END:VEVENT
BEGIN:VTIMEZONE
TZID:America/Maceio
X-LIC-LOCATION:America/Maceio
BEGIN:STANDARD
DTSTART:20020216T230000
TZNAME:-03
TZOFFSETFROM:-0200
TZOFFSETTO:-0300
END:STANDARD
END:VTIMEZONE
END:VCALENDAR
