BEGIN:VCALENDAR
VERSION:2.0
PRODID:-//Plone.org//NONSGML plone.app.event//EN
X-WR-TIMEZONE:America/Maceio
BEGIN:VEVENT
SUMMARY:Curso Metodologias Ativas: Aprendizado Baseado em Problemas
DTSTART;TZID=America/Maceio:20230906T080000
DTEND;TZID=America/Maceio:20230920T100000
DTSTAMP:20260420T224355Z
UID:18b60bdf430a4c20b72b458777f04c88@principal.ufal.br
CREATED:20230822T161449Z
LAST-MODIFIED:20240119T141703Z
URL:https://ufal.br/servidor/capacitacao/formacao-docente/eventos/2023/ii-
 semestre/inscricoes-encerradas/curso-metodologias-ativas-aprendizado-basea
 do-em-problemas
END:VEVENT
BEGIN:VTIMEZONE
TZID:America/Maceio
X-LIC-LOCATION:America/Maceio
BEGIN:STANDARD
DTSTART:20020216T230000
TZNAME:-03
TZOFFSETFROM:-0200
TZOFFSETTO:-0300
END:STANDARD
END:VTIMEZONE
END:VCALENDAR
