BEGIN:VCALENDAR
VERSION:2.0
PRODID:-//Plone.org//NONSGML plone.app.event//EN
X-WR-TIMEZONE:America/Maceio
BEGIN:VEVENT
SUMMARY:Curso Gestão de Projetos de Pesquisa
DTSTART;TZID=America/Maceio:20230912T140000
DTEND;TZID=America/Maceio:20231003T160000
DTSTAMP:20260420T123110Z
UID:31b4ef5642234f3b8cb489afc5c331e2@principal.ufal.br
CREATED:20230822T131116Z
LAST-MODIFIED:20240119T143346Z
URL:https://ufal.br/servidor/capacitacao/formacao-docente/eventos/2023/ii-
 semestre/inscricoes-encerradas/curso-gestao-de-projetos-de-pesquisa
END:VEVENT
BEGIN:VTIMEZONE
TZID:America/Maceio
X-LIC-LOCATION:America/Maceio
BEGIN:STANDARD
DTSTART:20020216T230000
TZNAME:-03
TZOFFSETFROM:-0200
TZOFFSETTO:-0300
END:STANDARD
END:VTIMEZONE
END:VCALENDAR
