BEGIN:VCALENDAR
VERSION:2.0
PRODID:-//Plone.org//NONSGML plone.app.event//EN
X-WR-TIMEZONE:America/Maceio
BEGIN:VEVENT
SUMMARY:Curso Ética\, Aprendizagem e Relações Socioemocionais no Ensino
  Superior
DTSTART;TZID=America/Maceio:20230831T140000
DTEND;TZID=America/Maceio:20230928T180000
DTSTAMP:20260421T023410Z
UID:5ed06b883447495c9f5a17dbe1f0679a@principal.ufal.br
CREATED:20230605T151224Z
LAST-MODIFIED:20240119T141429Z
URL:https://ufal.br/servidor/capacitacao/formacao-docente/eventos/2023/ii-
 semestre/inscricoes-encerradas/curso-etica-aprendizagem-e-relacoes-socioaf
 etivas-no-ensino-superior
END:VEVENT
BEGIN:VTIMEZONE
TZID:America/Maceio
X-LIC-LOCATION:America/Maceio
BEGIN:STANDARD
DTSTART:20020216T230000
TZNAME:-03
TZOFFSETFROM:-0200
TZOFFSETTO:-0300
END:STANDARD
END:VTIMEZONE
END:VCALENDAR
