BEGIN:VCALENDAR
VERSION:2.0
PRODID:-//Plone.org//NONSGML plone.app.event//EN
X-WR-TIMEZONE:America/Maceio
BEGIN:VEVENT
SUMMARY:Curso Elaboração de Projetos de Extensão
DTSTART;TZID=America/Maceio:20230926T080000
DTEND;TZID=America/Maceio:20231010T110000
DTSTAMP:20260420T185711Z
UID:9ac29fa1f29a460e8e0a07892f34ce14@principal.ufal.br
CREATED:20230911T163345Z
LAST-MODIFIED:20240119T143622Z
URL:https://ufal.br/servidor/capacitacao/formacao-docente/eventos/2023/ii-
 semestre/inscricoes-encerradas/curso-elaboracao-de-projetos-de-extensao
END:VEVENT
BEGIN:VTIMEZONE
TZID:America/Maceio
X-LIC-LOCATION:America/Maceio
BEGIN:STANDARD
DTSTART:20020216T230000
TZNAME:-03
TZOFFSETFROM:-0200
TZOFFSETTO:-0300
END:STANDARD
END:VTIMEZONE
END:VCALENDAR
