BEGIN:VCALENDAR
VERSION:2.0
PRODID:-//Plone.org//NONSGML plone.app.event//EN
X-WR-TIMEZONE:America/Maceio
BEGIN:VEVENT
SUMMARY:Curso Análise de Dados com Power Bi
DTSTART;TZID=America/Maceio:20231010T190000
DTEND;TZID=America/Maceio:20231024T210000
DTSTAMP:20260420T153325Z
UID:a5e4f4547ca14b95a9c30dd6bb325cae@principal.ufal.br
CREATED:20231004T133207Z
LAST-MODIFIED:20240119T143720Z
URL:https://ufal.br/servidor/capacitacao/formacao-docente/eventos/2023/ii-
 semestre/inscricoes-encerradas/curso-analise-de-dados-com-power-bi
END:VEVENT
BEGIN:VTIMEZONE
TZID:America/Maceio
X-LIC-LOCATION:America/Maceio
BEGIN:STANDARD
DTSTART:20020216T230000
TZNAME:-03
TZOFFSETFROM:-0200
TZOFFSETTO:-0300
END:STANDARD
END:VTIMEZONE
END:VCALENDAR
