BEGIN:VCALENDAR
VERSION:2.0
PRODID:-//Plone.org//NONSGML plone.app.event//EN
X-WR-TIMEZONE:America/Maceio
BEGIN:VEVENT
SUMMARY:Curso Microsoft Teams: uma interface síncrona e assíncrona de ap
 rendizagem
DTSTART;TZID=America/Maceio:20230321T090000
DTEND;TZID=America/Maceio:20230403T000000
DTSTAMP:20260420T233408Z
UID:6ad3b6300e1f49fba2f041258c5cab29@principal.ufal.br
CREATED:20230224T151037Z
LAST-MODIFIED:20230531T112945Z
URL:https://ufal.br/servidor/capacitacao/formacao-docente/eventos/2023/i-s
 emestre/inscricoes-encerradas/edital-2022/curso-microsoft-teams-uma-interf
 ace-sincrona-e-assincrona-de-aprendizagem
END:VEVENT
BEGIN:VTIMEZONE
TZID:America/Maceio
X-LIC-LOCATION:America/Maceio
BEGIN:STANDARD
DTSTART:20020216T230000
TZNAME:-03
TZOFFSETFROM:-0200
TZOFFSETTO:-0300
END:STANDARD
END:VTIMEZONE
END:VCALENDAR
