BEGIN:VCALENDAR
VERSION:2.0
PRODID:-//Plone.org//NONSGML plone.app.event//EN
X-WR-TIMEZONE:America/Maceio
BEGIN:VEVENT
SUMMARY:Curso de Produção de Videoaula: Da Roteirização à Gravação
DTSTART;TZID=America/Maceio:20230307T190000
DTEND;TZID=America/Maceio:20230323T210000
DTSTAMP:20260420T161412Z
UID:4dd5478517ff4796851a3041c014e193@principal.ufal.br
CREATED:20230224T140716Z
LAST-MODIFIED:20230531T112858Z
URL:https://ufal.br/servidor/capacitacao/formacao-docente/eventos/2023/i-s
 emestre/inscricoes-encerradas/edital-2022/curso-de-producao-de-videoaula-d
 a-roteirizacao-a-gravacao
END:VEVENT
BEGIN:VTIMEZONE
TZID:America/Maceio
X-LIC-LOCATION:America/Maceio
BEGIN:STANDARD
DTSTART:20020216T230000
TZNAME:-03
TZOFFSETFROM:-0200
TZOFFSETTO:-0300
END:STANDARD
END:VTIMEZONE
END:VCALENDAR
