BEGIN:VCALENDAR
VERSION:2.0
PRODID:-//Plone.org//NONSGML plone.app.event//EN
X-WR-TIMEZONE:America/Maceio
BEGIN:VEVENT
SUMMARY:Curso de Produção de Material Didático Multimídia: Design e Pe
 rsonalização
DTSTART;TZID=America/Maceio:20230227T100000
DTEND;TZID=America/Maceio:20230317T120000
DTSTAMP:20260420T165403Z
UID:4a2b27cba9584c138e48fc8db132d9bd@principal.ufal.br
CREATED:20230209T153040Z
LAST-MODIFIED:20230531T112817Z
URL:https://ufal.br/servidor/capacitacao/formacao-docente/eventos/2023/i-s
 emestre/inscricoes-encerradas/edital-2022/curso-de-producao-de-material-di
 datico-multimidia-design-e-personalizacao
END:VEVENT
BEGIN:VTIMEZONE
TZID:America/Maceio
X-LIC-LOCATION:America/Maceio
BEGIN:STANDARD
DTSTART:20020216T230000
TZNAME:-03
TZOFFSETFROM:-0200
TZOFFSETTO:-0300
END:STANDARD
END:VTIMEZONE
END:VCALENDAR
