BEGIN:VCALENDAR
VERSION:2.0
PRODID:-//Plone.org//NONSGML plone.app.event//EN
X-WR-TIMEZONE:America/Maceio
BEGIN:VEVENT
SUMMARY:Curso Docência Interativa: Elaboração de Recursos On-line de Ap
 oio ao Aprendizado
DTSTART;TZID=America/Maceio:20230626T140000
DTEND;TZID=America/Maceio:20230710T160000
DTSTAMP:20260420T213506Z
UID:b9d56aef57a24eeaa345d6c2fcd8a416@principal.ufal.br
CREATED:20230530T165924Z
LAST-MODIFIED:20240119T140005Z
URL:https://ufal.br/servidor/capacitacao/formacao-docente/eventos/2023/i-s
 emestre/inscricoes-encerradas/curso-docencia-interativa-elaboracao-de-recu
 rsos-on-line-de-apoio-ao-aprendizado
END:VEVENT
BEGIN:VTIMEZONE
TZID:America/Maceio
X-LIC-LOCATION:America/Maceio
BEGIN:STANDARD
DTSTART:20020216T230000
TZNAME:-03
TZOFFSETFROM:-0200
TZOFFSETTO:-0300
END:STANDARD
END:VTIMEZONE
END:VCALENDAR
