BEGIN:VCALENDAR
VERSION:2.0
PRODID:-//Plone.org//NONSGML plone.app.event//EN
X-WR-TIMEZONE:America/Maceio
BEGIN:VEVENT
SUMMARY:Curso de Metodologias Ativas: Uso de Portfólios
DTSTART;TZID=America/Maceio:20230626T190000
DTEND;TZID=America/Maceio:20230714T220000
DTSTAMP:20260421T035752Z
UID:75764ae119eb485c9d9773c642fcef23@principal.ufal.br
CREATED:20230601T145811Z
LAST-MODIFIED:20240119T140747Z
URL:https://ufal.br/servidor/capacitacao/formacao-docente/eventos/2023/i-s
 emestre/inscricoes-encerradas/curso-de-metodologias-ativas-uso-de-portfoli
 os
END:VEVENT
BEGIN:VTIMEZONE
TZID:America/Maceio
X-LIC-LOCATION:America/Maceio
BEGIN:STANDARD
DTSTART:20020216T230000
TZNAME:-03
TZOFFSETFROM:-0200
TZOFFSETTO:-0300
END:STANDARD
END:VTIMEZONE
END:VCALENDAR
