BEGIN:VCALENDAR
VERSION:2.0
PRODID:-//Plone.org//NONSGML plone.app.event//EN
X-WR-TIMEZONE:America/Maceio
BEGIN:VEVENT
SUMMARY:Cursos
DTSTART;TZID=America/Maceio:20230517T120000
DTEND;TZID=America/Maceio:20230517T130000
DTSTAMP:20260420T055828Z
UID:325e20730a1d430fa08a7a49692d93c1@principal.ufal.br
CREATED:20230517T154325Z
LAST-MODIFIED:20230517T154337Z
URL:https://ufal.br/servidor/capacitacao/formacao-docente/eventos/2023/cur
 sos-previstos-em-edital/cursos
END:VEVENT
BEGIN:VTIMEZONE
TZID:America/Maceio
X-LIC-LOCATION:America/Maceio
BEGIN:STANDARD
DTSTART:20020216T230000
TZNAME:-03
TZOFFSETFROM:-0200
TZOFFSETTO:-0300
END:STANDARD
END:VTIMEZONE
END:VCALENDAR
