BEGIN:VCALENDAR
VERSION:2.0
PRODID:-//Plone.org//NONSGML plone.app.event//EN
X-WR-TIMEZONE:America/Maceio
BEGIN:VEVENT
SUMMARY:Treinamento em Mesa Virtual e Processo de Barramento no SIPAC - Tu
 rmas 11 e 12
DTSTART;TZID=America/Maceio:20220727T130000
DTEND;TZID=America/Maceio:20220728T090000
DTSTAMP:20260421T034549Z
UID:7597a20e5cc042eea0a88f5e93f3e98e@principal.ufal.br
CREATED:20220712T125229Z
LAST-MODIFIED:20230413T154825Z
URL:https://ufal.br/servidor/capacitacao/eventos/anos-anteriores/2022/ii-s
 emestre/inscricoes-encerradas/treinamento-em-mesa-virtual-e-processo-de-ba
 rramento-no-sipac-turmas-11-e-12
END:VEVENT
BEGIN:VTIMEZONE
TZID:America/Maceio
X-LIC-LOCATION:America/Maceio
BEGIN:STANDARD
DTSTART:20020216T230000
TZNAME:-03
TZOFFSETFROM:-0200
TZOFFSETTO:-0300
END:STANDARD
END:VTIMEZONE
END:VCALENDAR
