BEGIN:VCALENDAR
VERSION:2.0
PRODID:-//Plone.org//NONSGML plone.app.event//EN
X-WR-TIMEZONE:America/Maceio
BEGIN:VEVENT
SUMMARY:Seminário ENADE
DTSTART;TZID=America/Maceio:20221014T140000
DTEND;TZID=America/Maceio:20221014T160000
DTSTAMP:20260421T034708Z
UID:8ba65d67f11a41f58af0fbfe6f011b80@principal.ufal.br
CREATED:20221011T121434Z
LAST-MODIFIED:20230413T154827Z
URL:https://ufal.br/servidor/capacitacao/eventos/anos-anteriores/2022/ii-s
 emestre/inscricoes-encerradas/seminario-enade
END:VEVENT
BEGIN:VTIMEZONE
TZID:America/Maceio
X-LIC-LOCATION:America/Maceio
BEGIN:STANDARD
DTSTART:20020216T230000
TZNAME:-03
TZOFFSETFROM:-0200
TZOFFSETTO:-0300
END:STANDARD
END:VTIMEZONE
END:VCALENDAR
