BEGIN:VCALENDAR
VERSION:2.0
PRODID:-//Plone.org//NONSGML plone.app.event//EN
X-WR-TIMEZONE:America/Maceio
BEGIN:VEVENT
SUMMARY:Semana do Servidor (Campus A.C.Simões) - 24 a 26 de outubro de 20
 22
DTSTART;TZID=America/Maceio:20221024T080000
DTEND;TZID=America/Maceio:20221026T130000
DTSTAMP:20260421T034708Z
UID:919c27107c704da59ca1eeaa1246d5e2@principal.ufal.br
CREATED:20221007T130145Z
LAST-MODIFIED:20230413T154826Z
URL:https://ufal.br/servidor/capacitacao/eventos/anos-anteriores/2022/ii-s
 emestre/inscricoes-encerradas/semana-do-servidor-24-a-26-de-outubro-de-202
 2
END:VEVENT
BEGIN:VTIMEZONE
TZID:America/Maceio
X-LIC-LOCATION:America/Maceio
BEGIN:STANDARD
DTSTART:20020216T230000
TZNAME:-03
TZOFFSETFROM:-0200
TZOFFSETTO:-0300
END:STANDARD
END:VTIMEZONE
END:VCALENDAR
