BEGIN:VCALENDAR
VERSION:2.0
PRODID:-//Plone.org//NONSGML plone.app.event//EN
X-WR-TIMEZONE:America/Maceio
BEGIN:VEVENT
SUMMARY:Curso Planejamento Estratégico - Turma 2 (Área Administrativa)
DTSTART;TZID=America/Maceio:20220818T150000
DTEND;TZID=America/Maceio:20220929T180000
DTSTAMP:20260421T034710Z
UID:34bfa218b13f436eb4faa3784a6b8742@principal.ufal.br
CREATED:20220802T153103Z
LAST-MODIFIED:20230413T154826Z
URL:https://ufal.br/servidor/capacitacao/eventos/anos-anteriores/2022/ii-s
 emestre/inscricoes-encerradas/curso-planejamento-estrategico-turma-2-area-
 administrativa
END:VEVENT
BEGIN:VTIMEZONE
TZID:America/Maceio
X-LIC-LOCATION:America/Maceio
BEGIN:STANDARD
DTSTART:20020216T230000
TZNAME:-03
TZOFFSETFROM:-0200
TZOFFSETTO:-0300
END:STANDARD
END:VTIMEZONE
END:VCALENDAR
