BEGIN:VCALENDAR
VERSION:2.0
PRODID:-//Plone.org//NONSGML plone.app.event//EN
X-WR-TIMEZONE:America/Maceio
BEGIN:VEVENT
SUMMARY:Curso Moodle Básico
DTSTART;TZID=America/Maceio:20220804T090000
DTEND;TZID=America/Maceio:20220818T120000
DTSTAMP:20260421T082125Z
UID:57b9f2cad4a84c959c57e888aa33baf2@principal.ufal.br
CREATED:20220615T223434Z
LAST-MODIFIED:20230413T154826Z
URL:https://ufal.br/servidor/capacitacao/eventos/anos-anteriores/2022/ii-s
 emestre/inscricoes-encerradas/curso-moodle-basico
END:VEVENT
BEGIN:VTIMEZONE
TZID:America/Maceio
X-LIC-LOCATION:America/Maceio
BEGIN:STANDARD
DTSTART:20020216T230000
TZNAME:-03
TZOFFSETFROM:-0200
TZOFFSETTO:-0300
END:STANDARD
END:VTIMEZONE
END:VCALENDAR
