BEGIN:VCALENDAR
VERSION:2.0
PRODID:-//Plone.org//NONSGML plone.app.event//EN
X-WR-TIMEZONE:America/Maceio
BEGIN:VEVENT
SUMMARY:Curso Ferramentas Google (forms\, planilhas)
DTSTART;TZID=America/Maceio:20221004T100000
DTEND;TZID=America/Maceio:20221014T120000
DTSTAMP:20260421T033433Z
UID:237443e8ebac40b0a6f54448580fed28@principal.ufal.br
CREATED:20220808T151720Z
LAST-MODIFIED:20230413T154826Z
URL:https://ufal.br/servidor/capacitacao/eventos/anos-anteriores/2022/ii-s
 emestre/inscricoes-encerradas/curso-ferramentas-google-forms-planilhas
END:VEVENT
BEGIN:VTIMEZONE
TZID:America/Maceio
X-LIC-LOCATION:America/Maceio
BEGIN:STANDARD
DTSTART:20020216T230000
TZNAME:-03
TZOFFSETFROM:-0200
TZOFFSETTO:-0300
END:STANDARD
END:VTIMEZONE
END:VCALENDAR
