BEGIN:VCALENDAR
VERSION:2.0
PRODID:-//Plone.org//NONSGML plone.app.event//EN
X-WR-TIMEZONE:America/Maceio
BEGIN:VEVENT
SUMMARY:Curso de Estatística Aplicada à Pesquisa
DTSTART;TZID=America/Maceio:20220815T140000
DTEND;TZID=America/Maceio:20220904T160000
DTSTAMP:20260421T034502Z
UID:faf4f2c1d22e468195ae1a79bd70dd8b@principal.ufal.br
CREATED:20220706T131347Z
LAST-MODIFIED:20230413T154825Z
URL:https://ufal.br/servidor/capacitacao/eventos/anos-anteriores/2022/ii-s
 emestre/inscricoes-encerradas/curso-de-estatistica-aplicada-a-pesquisa
END:VEVENT
BEGIN:VTIMEZONE
TZID:America/Maceio
X-LIC-LOCATION:America/Maceio
BEGIN:STANDARD
DTSTART:20020216T230000
TZNAME:-03
TZOFFSETFROM:-0200
TZOFFSETTO:-0300
END:STANDARD
END:VTIMEZONE
END:VCALENDAR
