BEGIN:VCALENDAR
VERSION:2.0
PRODID:-//Plone.org//NONSGML plone.app.event//EN
X-WR-TIMEZONE:America/Maceio
BEGIN:VEVENT
SUMMARY:Encontro de Diretores e Novos Conselheiros da UFAL
DTSTART;TZID=America/Maceio:20221020T110000
DTEND;TZID=America/Maceio:20221027T120000
DTSTAMP:20260421T054152Z
UID:ecb78fb2b7724b32b2f253a588177ff6@principal.ufal.br
CREATED:20221129T150945Z
LAST-MODIFIED:20230413T154827Z
URL:https://ufal.br/servidor/capacitacao/eventos/anos-anteriores/2022/ii-s
 emestre/inscricoes-encerradas/acoes-para-publico-alvo-especifico/encontro-
 de-diretores-e-novos-conselheiros-da-ufal
END:VEVENT
BEGIN:VTIMEZONE
TZID:America/Maceio
X-LIC-LOCATION:America/Maceio
BEGIN:STANDARD
DTSTART:20020216T230000
TZNAME:-03
TZOFFSETFROM:-0200
TZOFFSETTO:-0300
END:STANDARD
END:VTIMEZONE
END:VCALENDAR
