BEGIN:VCALENDAR
VERSION:2.0
PRODID:-//Plone.org//NONSGML plone.app.event//EN
X-WR-TIMEZONE:America/Maceio
BEGIN:VEVENT
SUMMARY:Treinamento em Mesa Virtual e Processo de Barramento no SIPAC
DTSTART;TZID=America/Maceio:20220312T090000
DTEND;TZID=America/Maceio:20220313T090000
DTSTAMP:20260420T172357Z
UID:24b8773d6e59436e9b7a84c137399c85@principal.ufal.br
CREATED:20220330T164404Z
LAST-MODIFIED:20230413T154825Z
URL:https://ufal.br/servidor/capacitacao/eventos/anos-anteriores/2022/i-se
 mestre/inscricoes-encerradas/treinamento-em-mesa-virtual-e-processo-de-bar
 ramento-no-sipac
END:VEVENT
BEGIN:VTIMEZONE
TZID:America/Maceio
X-LIC-LOCATION:America/Maceio
BEGIN:STANDARD
DTSTART:20020216T230000
TZNAME:-03
TZOFFSETFROM:-0200
TZOFFSETTO:-0300
END:STANDARD
END:VTIMEZONE
END:VCALENDAR
