BEGIN:VCALENDAR
VERSION:2.0
PRODID:-//Plone.org//NONSGML plone.app.event//EN
X-WR-TIMEZONE:America/Maceio
BEGIN:VEVENT
SUMMARY:Curso Gênero\, Diversidade e Equidade no Ensino Superior
DTSTART;TZID=America/Maceio:20220613T190000
DTEND;TZID=America/Maceio:20220627T220000
DTSTAMP:20260420T213506Z
UID:bf29fcdf8a2340469ca21955174649de@principal.ufal.br
CREATED:20220530T142215Z
LAST-MODIFIED:20230413T154825Z
URL:https://ufal.br/servidor/capacitacao/eventos/anos-anteriores/2022/i-se
 mestre/inscricoes-encerradas/curso-genero-diversidade-e-equidade-no-ensino
 -superior
END:VEVENT
BEGIN:VTIMEZONE
TZID:America/Maceio
X-LIC-LOCATION:America/Maceio
BEGIN:STANDARD
DTSTART:20020216T230000
TZNAME:-03
TZOFFSETFROM:-0200
TZOFFSETTO:-0300
END:STANDARD
END:VTIMEZONE
END:VCALENDAR
