BEGIN:VCALENDAR
VERSION:2.0
PRODID:-//Plone.org//NONSGML plone.app.event//EN
X-WR-TIMEZONE:America/Maceio
BEGIN:VEVENT
SUMMARY:Curso de Relações Interpessoais no Trabalho
DTSTART;TZID=America/Maceio:20220613T140000
DTEND;TZID=America/Maceio:20220622T160000
DTSTAMP:20260420T182832Z
UID:7514830664994f82a3d5d7804a016638@principal.ufal.br
CREATED:20220601T121120Z
LAST-MODIFIED:20230413T154825Z
URL:https://ufal.br/servidor/capacitacao/eventos/anos-anteriores/2022/i-se
 mestre/inscricoes-encerradas/curso-de-relacoes-interpessoais-no-trabalho
END:VEVENT
BEGIN:VTIMEZONE
TZID:America/Maceio
X-LIC-LOCATION:America/Maceio
BEGIN:STANDARD
DTSTART:20020216T230000
TZNAME:-03
TZOFFSETFROM:-0200
TZOFFSETTO:-0300
END:STANDARD
END:VTIMEZONE
END:VCALENDAR
