BEGIN:VCALENDAR
VERSION:2.0
PRODID:-//Plone.org//NONSGML plone.app.event//EN
X-WR-TIMEZONE:America/Maceio
BEGIN:VEVENT
SUMMARY:Treinamento em Mesa Virtual e Processo de Barramento no SIPAC - Tu
 rma I
DTSTART;TZID=America/Maceio:20220406T210000
DTEND;TZID=America/Maceio:20220406T230000
DTSTAMP:20260420T221631Z
UID:f640dc8449bf471abf282d7b6fc20966@principal.ufal.br
CREATED:20220413T131840Z
LAST-MODIFIED:20230413T154825Z
URL:https://ufal.br/servidor/capacitacao/eventos/anos-anteriores/2022/i-se
 mestre/inscricoes-encerradas/acoes-para-publico-alvo-especifico/treinament
 o-em-mesa-virtual-e-processo-de-barramento-no-sipac-turma-i
END:VEVENT
BEGIN:VTIMEZONE
TZID:America/Maceio
X-LIC-LOCATION:America/Maceio
BEGIN:STANDARD
DTSTART:20020216T230000
TZNAME:-03
TZOFFSETFROM:-0200
TZOFFSETTO:-0300
END:STANDARD
END:VTIMEZONE
END:VCALENDAR
