BEGIN:VCALENDAR
VERSION:2.0
PRODID:-//Plone.org//NONSGML plone.app.event//EN
X-WR-TIMEZONE:America/Maceio
BEGIN:VEVENT
SUMMARY:Oficina de Microsoft Teams - Supervisores/Fiscais
DTSTART;TZID=America/Maceio:20220328T200000
DTEND;TZID=America/Maceio:20220331T120000
DTSTAMP:20260421T024154Z
UID:f69eab152ae1424889369774bfce71a5@principal.ufal.br
CREATED:20220322T140336Z
LAST-MODIFIED:20230413T154824Z
URL:https://ufal.br/servidor/capacitacao/eventos/anos-anteriores/2022/i-se
 mestre/inscricoes-encerradas/acoes-para-publico-alvo-especifico/oficina-de
 -microsoft-teams-supervisores-fiscais
END:VEVENT
BEGIN:VTIMEZONE
TZID:America/Maceio
X-LIC-LOCATION:America/Maceio
BEGIN:STANDARD
DTSTART:20020216T230000
TZNAME:-03
TZOFFSETFROM:-0200
TZOFFSETTO:-0300
END:STANDARD
END:VTIMEZONE
END:VCALENDAR
