BEGIN:VCALENDAR
VERSION:2.0
PRODID:-//Plone.org//NONSGML plone.app.event//EN
X-WR-TIMEZONE:America/Maceio
BEGIN:VEVENT
SUMMARY:Oficina de Microsoft Teams - Banca Examinadora
DTSTART;TZID=America/Maceio:20220330T080000
DTEND;TZID=America/Maceio:20220331T120000
DTSTAMP:20260421T024130Z
UID:49428c84d67547f3990f604def259606@principal.ufal.br
CREATED:20220330T135035Z
LAST-MODIFIED:20230413T154825Z
URL:https://ufal.br/servidor/capacitacao/eventos/anos-anteriores/2022/i-se
 mestre/inscricoes-encerradas/acoes-para-publico-alvo-especifico/oficina-de
 -microsoft-teams-banca-examinadora
END:VEVENT
BEGIN:VTIMEZONE
TZID:America/Maceio
X-LIC-LOCATION:America/Maceio
BEGIN:STANDARD
DTSTART:20020216T230000
TZNAME:-03
TZOFFSETFROM:-0200
TZOFFSETTO:-0300
END:STANDARD
END:VTIMEZONE
END:VCALENDAR
