BEGIN:VCALENDAR
VERSION:2.0
PRODID:-//Plone.org//NONSGML plone.app.event//EN
X-WR-TIMEZONE:America/Maceio
BEGIN:VEVENT
SUMMARY:Oficina de Microsoft Teams - Auxiliares de Gravação
DTSTART;TZID=America/Maceio:20220329T080000
DTEND;TZID=America/Maceio:20220330T120000
DTSTAMP:20260421T024154Z
UID:8ca42bdacb4348229c849b04517af3cc@principal.ufal.br
CREATED:20220330T133413Z
LAST-MODIFIED:20230413T154824Z
URL:https://ufal.br/servidor/capacitacao/eventos/anos-anteriores/2022/i-se
 mestre/inscricoes-encerradas/acoes-para-publico-alvo-especifico/oficina-de
 -microsoft-teams-auxiliares-de-gravacao
END:VEVENT
BEGIN:VTIMEZONE
TZID:America/Maceio
X-LIC-LOCATION:America/Maceio
BEGIN:STANDARD
DTSTART:20020216T230000
TZNAME:-03
TZOFFSETFROM:-0200
TZOFFSETTO:-0300
END:STANDARD
END:VTIMEZONE
END:VCALENDAR
