BEGIN:VCALENDAR
VERSION:2.0
PRODID:-//Plone.org//NONSGML plone.app.event//EN
X-WR-TIMEZONE:America/Maceio
BEGIN:VEVENT
SUMMARY:Oficina Neuromarketing Na Administração Pública
DTSTART;TZID=America/Maceio:20210715T140000
DTEND;TZID=America/Maceio:20210716T160000
DTSTAMP:20260420T180356Z
UID:975410f208b847239685509a579ea154@principal.ufal.br
CREATED:20210615T123304Z
LAST-MODIFIED:20230413T154751Z
URL:https://ufal.br/servidor/capacitacao/eventos/anos-anteriores/2021/ii-s
 emestre/inscricoes-encerradas/oficina-neuromarketing-na-administracao-publ
 ica
END:VEVENT
BEGIN:VTIMEZONE
TZID:America/Maceio
X-LIC-LOCATION:America/Maceio
BEGIN:STANDARD
DTSTART:20020216T230000
TZNAME:-03
TZOFFSETFROM:-0200
TZOFFSETTO:-0300
END:STANDARD
END:VTIMEZONE
END:VCALENDAR
